BEGIN:VCALENDAR
VERSION:2.0
PRODID:icalendar-ruby
CALSCALE:GREGORIAN
METHOD:PUBLISH
BEGIN:VEVENT
DTSTAMP:20260422T084450Z
UID:10-678263@houseofrejects.com
DTSTART:20261008T013000Z
DTEND:20261008T030000Z
CLASS:PUBLIC
CREATED:20260421T171715
DESCRIPTION:
LAST-MODIFIED:20260421T171715
LOCATION:Fumar Cigars
SUMMARY:AZ Wardogs
URL;VALUE=URI:https://www.houseofrejects.com/events/az-wardogs/2026-10-07
ATTACH;FILENAME=IMG_2313.jpeg;FMTTYPE=image/jpeg:https://dq5pwpg1q8ru0.clou
 dfront.net/2025/12/17/18/17/26/dcc56ad1-2253-496b-a521-c1ade9944956/IMG_23
 13.jpeg
END:VEVENT
END:VCALENDAR
