BEGIN:VCALENDAR
VERSION:2.0
PRODID:icalendar-ruby
CALSCALE:GREGORIAN
METHOD:PUBLISH
BEGIN:VEVENT
DTSTAMP:20260422T045657Z
UID:11-678306@houseofrejects.com
DTSTART:20260922T010000Z
DTEND:20260922T040000Z
CLASS:PUBLIC
CREATED:20260421T171715
DESCRIPTION:
LAST-MODIFIED:20260421T171715
LOCATION:TBD each week
SUMMARY:Mighty Men
URL;VALUE=URI:https://www.houseofrejects.com/events/mighty-men/2026-09-21
ATTACH;FILENAME=IMG_2270.jpeg;FMTTYPE=image/jpeg:https://dq5pwpg1q8ru0.clou
 dfront.net/2025/12/17/18/17/59/1929a13d-8578-4247-aa98-244ae88b8c60/IMG_22
 70.jpeg
END:VEVENT
END:VCALENDAR
